BEGIN:VCALENDAR
VERSION:2.0
PRODID:-//RSC Chemnitz e.V. - ECPv5.16.4.1//NONSGML v1.0//EN
CALSCALE:GREGORIAN
METHOD:PUBLISH
X-WR-CALNAME:RSC Chemnitz e.V.
X-ORIGINAL-URL:https://www.rsc-chemnitz.de
X-WR-CALDESC:Veranstaltungen für RSC Chemnitz e.V.
BEGIN:VTIMEZONE
TZID:UTC
BEGIN:STANDARD
TZOFFSETFROM:+0000
TZOFFSETTO:+0000
TZNAME:UTC
DTSTART:20210101T000000
END:STANDARD
END:VTIMEZONE
BEGIN:VEVENT
DTSTART;TZID=UTC:20210424T100000
DTEND;TZID=UTC:20210424T100000
DTSTAMP:20260421T085624
CREATED:20200901T155604Z
LAST-MODIFIED:20210407T110729Z
UID:2954-1619258400-1619258400@www.rsc-chemnitz.de
SUMMARY:U17: 3.Spieltag in Allstedt
DESCRIPTION:ABGESAGT !!!
URL:https://www.rsc-chemnitz.de/termin/u17-3-spieltag-in-allstedt-2/
LOCATION:Allstedt (Rollsportstadion)\, Schlossstraße\, Allstedt\, 06542
CATEGORIES:A-Jugend
END:VEVENT
END:VCALENDAR