BEGIN:VCALENDAR
VERSION:2.0
PRODID:-//RSC Chemnitz e.V. - ECPv5.16.4.1//NONSGML v1.0//EN
CALSCALE:GREGORIAN
METHOD:PUBLISH
X-WR-CALNAME:RSC Chemnitz e.V.
X-ORIGINAL-URL:https://www.rsc-chemnitz.de
X-WR-CALDESC:Veranstaltungen für RSC Chemnitz e.V.
BEGIN:VTIMEZONE
TZID:UTC
BEGIN:STANDARD
TZOFFSETFROM:+0000
TZOFFSETTO:+0000
TZNAME:UTC
DTSTART:20220101T000000
END:STANDARD
END:VTIMEZONE
BEGIN:VEVENT
DTSTART;VALUE=DATE:20220917
DTEND;VALUE=DATE:20220918
DTSTAMP:20260419T161154
CREATED:20220903T101559Z
LAST-MODIFIED:20220903T101559Z
UID:3736-1663372800-1663459199@www.rsc-chemnitz.de
SUMMARY:U17: 1.Spieltag in Böhlitz-Ehrenberg
DESCRIPTION:
URL:https://www.rsc-chemnitz.de/termin/u17-1-spieltag-in-boehlitz-ehrenberg/
LOCATION:Rollhockeystadion\, Ludwig-Jahn-Straße 24\, Leipzig\, 04178
CATEGORIES:A-Jugend
END:VEVENT
END:VCALENDAR