BEGIN:VCALENDAR
VERSION:2.0
PRODID:-//RSC Chemnitz e.V. - ECPv5.16.4.1//NONSGML v1.0//EN
CALSCALE:GREGORIAN
METHOD:PUBLISH
X-WR-CALNAME:RSC Chemnitz e.V.
X-ORIGINAL-URL:https://www.rsc-chemnitz.de
X-WR-CALDESC:Veranstaltungen für RSC Chemnitz e.V.
BEGIN:VTIMEZONE
TZID:UTC
BEGIN:STANDARD
TZOFFSETFROM:+0000
TZOFFSETTO:+0000
TZNAME:UTC
DTSTART:20220101T000000
END:STANDARD
END:VTIMEZONE
BEGIN:VEVENT
DTSTART;VALUE=DATE:20220924
DTEND;VALUE=DATE:20220925
DTSTAMP:20260419T175221
CREATED:20220903T101349Z
LAST-MODIFIED:20220903T101349Z
UID:3728-1663977600-1664063999@www.rsc-chemnitz.de
SUMMARY:U15: 1.Spieltag in Gera
DESCRIPTION:
URL:https://www.rsc-chemnitz.de/termin/u15-1-spieltag-in-gera/
LOCATION:Pandorfhalle\, Neue Straße 23\, Gera\, 07545
CATEGORIES:B-Jugend
END:VEVENT
END:VCALENDAR