BEGIN:VCALENDAR
VERSION:2.0
PRODID:-//RSC Chemnitz e.V. - ECPv5.16.4.1//NONSGML v1.0//EN
CALSCALE:GREGORIAN
METHOD:PUBLISH
X-WR-CALNAME:RSC Chemnitz e.V.
X-ORIGINAL-URL:https://www.rsc-chemnitz.de
X-WR-CALDESC:Veranstaltungen für RSC Chemnitz e.V.
BEGIN:VTIMEZONE
TZID:UTC
BEGIN:STANDARD
TZOFFSETFROM:+0000
TZOFFSETTO:+0000
TZNAME:UTC
DTSTART:20220101T000000
END:STANDARD
END:VTIMEZONE
BEGIN:VEVENT
DTSTART;TZID=UTC:20220424T100000
DTEND;TZID=UTC:20220424T160000
DTSTAMP:20260421T084436
CREATED:20220424T090900Z
LAST-MODIFIED:20220424T090900Z
UID:3659-1650794400-1650816000@www.rsc-chemnitz.de
SUMMARY:Girlscup in Böhlitz-Ehrenberg
DESCRIPTION:
URL:https://www.rsc-chemnitz.de/termin/girlscup-in-boehlitz-ehrenberg/
LOCATION:Rollhockeystadion\, Ludwig-Jahn-Straße 24\, Leipzig\, 04178
CATEGORIES:Sonstiges
END:VEVENT
END:VCALENDAR