BEGIN:VCALENDAR
VERSION:2.0
PRODID:-//RSC Chemnitz e.V. - ECPv5.16.4.1//NONSGML v1.0//EN
CALSCALE:GREGORIAN
METHOD:PUBLISH
X-WR-CALNAME:RSC Chemnitz e.V.
X-ORIGINAL-URL:https://www.rsc-chemnitz.de
X-WR-CALDESC:Veranstaltungen für RSC Chemnitz e.V.
BEGIN:VTIMEZONE
TZID:UTC
BEGIN:STANDARD
TZOFFSETFROM:+0000
TZOFFSETTO:+0000
TZNAME:UTC
DTSTART:20200101T000000
END:STANDARD
END:VTIMEZONE
BEGIN:VEVENT
DTSTART;TZID=UTC:20200201T163000
DTEND;TZID=UTC:20200201T163000
DTSTAMP:20260419T151207
CREATED:20191027T104340Z
LAST-MODIFIED:20191027T122607Z
UID:2194-1580574600-1580574600@www.rsc-chemnitz.de
SUMMARY:1. Bundesliga: DRIV-Pokal (1/4-Finale)
DESCRIPTION:
URL:https://www.rsc-chemnitz.de/termin/driv-pokal-1-4-finale/
CATEGORIES:2. Herren-BL
END:VEVENT
END:VCALENDAR