BEGIN:VCALENDAR
VERSION:2.0
PRODID:-//RSC Chemnitz e.V. - ECPv5.16.4.1//NONSGML v1.0//EN
CALSCALE:GREGORIAN
METHOD:PUBLISH
X-WR-CALNAME:RSC Chemnitz e.V.
X-ORIGINAL-URL:https://www.rsc-chemnitz.de
X-WR-CALDESC:Veranstaltungen für RSC Chemnitz e.V.
BEGIN:VTIMEZONE
TZID:UTC
BEGIN:STANDARD
TZOFFSETFROM:+0000
TZOFFSETTO:+0000
TZNAME:UTC
DTSTART:20220101T000000
END:STANDARD
END:VTIMEZONE
BEGIN:VEVENT
DTSTART;TZID=UTC:20221203T153000
DTEND;TZID=UTC:20221203T153000
DTSTAMP:20260421T101538
CREATED:20221116T191510Z
LAST-MODIFIED:20221116T191510Z
UID:3890-1670081400-1670081400@www.rsc-chemnitz.de
SUMMARY:2.Herren-BL: SG Blue Lions vs. Hülser SV Krefeld
DESCRIPTION:
URL:https://www.rsc-chemnitz.de/termin/2-herren-bl-sg-blue-lions-vs-huelser-sv-krefeld/
LOCATION:Chemnitz (Sachsenhalle)\, Straße Usti nad Labem 275\, Chemnitz\, 09119
CATEGORIES:2. Herren-BL
END:VEVENT
END:VCALENDAR