BEGIN:VCALENDAR
VERSION:2.0
PRODID:-//RSC Chemnitz e.V. - ECPv5.16.4.1//NONSGML v1.0//EN
CALSCALE:GREGORIAN
METHOD:PUBLISH
X-WR-CALNAME:RSC Chemnitz e.V.
X-ORIGINAL-URL:https://www.rsc-chemnitz.de
X-WR-CALDESC:Veranstaltungen für RSC Chemnitz e.V.
BEGIN:VTIMEZONE
TZID:UTC
BEGIN:STANDARD
TZOFFSETFROM:+0000
TZOFFSETTO:+0000
TZNAME:UTC
DTSTART:20210101T000000
END:STANDARD
END:VTIMEZONE
BEGIN:VEVENT
DTSTART;TZID=UTC:20211106T160000
DTEND;TZID=UTC:20211106T160000
DTSTAMP:20260419T121542
CREATED:20210911T165206Z
LAST-MODIFIED:20210911T165302Z
UID:3293-1636214400-1636214400@www.rsc-chemnitz.de
SUMMARY:2.Bundesliga: Krefeld vs. Blue Lions
DESCRIPTION:
URL:https://www.rsc-chemnitz.de/termin/2-bundesliga-krefeld-vs-blue-lions/
LOCATION:Sporthalle Krefeld\, Bonhoeffer Straße 26\, Krefeld\, 47839
CATEGORIES:2. Herren-BL
END:VEVENT
END:VCALENDAR